BEGIN:VCALENDAR
VERSION:2.0
PRODID:-//Worshipful Company of Builders Merchants - ECPv6.15.20//NONSGML v1.0//EN
CALSCALE:GREGORIAN
METHOD:PUBLISH
X-WR-CALNAME:Worshipful Company of Builders Merchants
X-ORIGINAL-URL:https://wcobm.co.uk
X-WR-CALDESC:Events for Worshipful Company of Builders Merchants
REFRESH-INTERVAL;VALUE=DURATION:PT1H
X-Robots-Tag:noindex
X-PUBLISHED-TTL:PT1H
BEGIN:VTIMEZONE
TZID:UTC
BEGIN:STANDARD
TZOFFSETFROM:+0000
TZOFFSETTO:+0000
TZNAME:UTC
DTSTART:20230101T000000
END:STANDARD
END:VTIMEZONE
BEGIN:VEVENT
DTSTART;TZID=UTC:20241109T090000
DTEND;TZID=UTC:20241109T153000
DTSTAMP:20260421T235444
CREATED:20240520T111741Z
LAST-MODIFIED:20240520T111741Z
UID:8438-1731142800-1731166200@wcobm.co.uk
SUMMARY:Lord Mayor's Show 2024
DESCRIPTION:All Liverymen\, Freemen and their guests are encouraged to attend the Lord Mayor’s Show on Saturday 9th November 2024. \nThe Lord Mayor’s Show is an annual event that dates back more than 800 years and is a highlight of the City of London calendar. \nThe original purpose of this historic event was to welcome the new Lord Mayor\, and to “show” them to the people of the City. During the procession the Lord Mayor will swear an oath of allegiance to the sovereign at the Royal Courts of Justice. \nThe Show will include marching bands\, City livery companies – some in traditional outfits\, modern businesses\, alongside community groups\, schools\, and charities. Usually over 7\,000 people\, 200 horses\, and around 150 groups and floats take part in a three mile-long procession to mark the Lord Mayor’s first full day in office. \nOur Master\, Senior and Junior Warden will walk in the procession. \nFor more information contact the Clerk.
URL:https://wcobm.co.uk/event/lord-mayors-show-2024/
LOCATION:Mansion House\, Walbrook\, London\, EC4N 8BH\, United Kingdom
END:VEVENT
END:VCALENDAR